BEGIN:VCALENDAR
VERSION:2.0
PRODID:-// - ECPv6.15.20//NONSGML v1.0//EN
CALSCALE:GREGORIAN
METHOD:PUBLISH
X-ORIGINAL-URL:https://parkovazeleznicevary.cz
X-WR-CALDESC:Akce na 
REFRESH-INTERVAL;VALUE=DURATION:PT1H
X-Robots-Tag:noindex
X-PUBLISHED-TTL:PT1H
BEGIN:VTIMEZONE
TZID:Europe/Prague
BEGIN:DAYLIGHT
TZOFFSETFROM:+0100
TZOFFSETTO:+0200
TZNAME:CEST
DTSTART:20240331T010000
END:DAYLIGHT
BEGIN:STANDARD
TZOFFSETFROM:+0200
TZOFFSETTO:+0100
TZNAME:CET
DTSTART:20241027T010000
END:STANDARD
BEGIN:DAYLIGHT
TZOFFSETFROM:+0100
TZOFFSETTO:+0200
TZNAME:CEST
DTSTART:20250330T010000
END:DAYLIGHT
BEGIN:STANDARD
TZOFFSETFROM:+0200
TZOFFSETTO:+0100
TZNAME:CET
DTSTART:20251026T010000
END:STANDARD
BEGIN:DAYLIGHT
TZOFFSETFROM:+0100
TZOFFSETTO:+0200
TZNAME:CEST
DTSTART:20260329T010000
END:DAYLIGHT
BEGIN:STANDARD
TZOFFSETFROM:+0200
TZOFFSETTO:+0100
TZNAME:CET
DTSTART:20261025T010000
END:STANDARD
END:VTIMEZONE
BEGIN:VEVENT
DTSTART;TZID=Europe/Prague:20250928T100000
DTEND;TZID=Europe/Prague:20250928T170000
DTSTAMP:20260423T141930
CREATED:20250901T074727Z
LAST-MODIFIED:20250901T074727Z
UID:1413-1759053600-1759078800@parkovazeleznicevary.cz
SUMMARY:PŽ na Dni otevřených dveří MDDM Ostrov
DESCRIPTION:Rádi bychom Vás pozvali na akci MDDM Ostrov\, která bude při příležitosti Michaelské pouti a Dni otevřených dveří MDDM.
URL:https://parkovazeleznicevary.cz/akce/pz-na-dni-otevrenych-dveri-mddm-ostrov/
LOCATION:MDDM Ostrov\, Školní 231\, Ostrov
END:VEVENT
BEGIN:VEVENT
DTSTART;TZID=Europe/Prague:20250913T130000
DTEND;TZID=Europe/Prague:20250913T170000
DTSTAMP:20260423T141930
CREATED:20250901T074149Z
LAST-MODIFIED:20250901T074149Z
UID:1404-1757768400-1757782800@parkovazeleznicevary.cz
SUMMARY:PŽ na akci Pěšky městem Podbořany
DESCRIPTION:Rádi bychom Vás pozvali na akci místního Klubu českých turistů.
URL:https://parkovazeleznicevary.cz/akce/pz-na-akci-pesky-mestem-podborany/
LOCATION:Dětské hřiště Hlubanská\, Hlubanská\, Podbořany\, Czech Republic
END:VEVENT
BEGIN:VEVENT
DTSTART;TZID=Europe/Prague:20250829T130000
DTEND;TZID=Europe/Prague:20250829T130000
DTSTAMP:20260423T141930
CREATED:20250716T102230Z
LAST-MODIFIED:20250716T102307Z
UID:1396-1756472400-1756472400@parkovazeleznicevary.cz
SUMMARY:Loučení s prázdninami u Městské knihovny Ostrov
DESCRIPTION:Rádi budeme součástí kulturní akce s názvem Loučení s prázdninami\, které pořádá Městská knihovna Ostrov.
URL:https://parkovazeleznicevary.cz/akce/louceni-s-prazdninami-u-mestske-knihovny-ostrov/
LOCATION:Zámecký park Ostrov\, Zámecký park 224\, Ostrov\, 36301
END:VEVENT
BEGIN:VEVENT
DTSTART;TZID=Europe/Prague:20250823T150000
DTEND;TZID=Europe/Prague:20250823T180000
DTSTAMP:20260423T141930
CREATED:20250716T100842Z
LAST-MODIFIED:20250716T100842Z
UID:1382-1755961200-1755972000@parkovazeleznicevary.cz
SUMMARY:Parková železnice na Žirafestu
DESCRIPTION:Parková železnice obohatí program benefiční kulturní akce v Bohaticích. Jezdit budeme od 15 do 18 hodin.
URL:https://parkovazeleznicevary.cz/akce/parkova-zeleznice-na-zirafestu/
LOCATION:U trati 70/9\, U trati 70/9\, Karlovy Vary\, Czech Republic
END:VEVENT
BEGIN:VEVENT
DTSTART;TZID=Europe/Prague:20250628T100000
DTEND;TZID=Europe/Prague:20250628T170000
DTSTAMP:20260423T141930
CREATED:20250528T082022Z
LAST-MODIFIED:20250528T082022Z
UID:1374-1751104800-1751130000@parkovazeleznicevary.cz
SUMMARY:Festival parkové železnice
DESCRIPTION:Milí příznivci\, \nrádi bychom Vás pozvali na naši největší letošní akci\, která proběhne v 28. a 29. června. \nVe volnočasovém areálu Rolava postavíme dosud největší kombinaci našich kolejí vč. výhybek a pozveme hostující modeláře. \nJe na co se těšit!
URL:https://parkovazeleznicevary.cz/akce/festival-parkove-zeleznice/
LOCATION:Rolava\, Třeboňská 1049/92\, Karlovy Vary\, 36005\, Czech Republic
END:VEVENT
BEGIN:VEVENT
DTSTART;TZID=Europe/Prague:20250621T130000
DTEND;TZID=Europe/Prague:20250621T170000
DTSTAMP:20260423T141930
CREATED:20250514T134943Z
LAST-MODIFIED:20250620T055804Z
UID:1032-1750510800-1750525200@parkovazeleznicevary.cz
SUMMARY:Parková železnice u hřiště ve Vojkovicích
DESCRIPTION:
URL:https://parkovazeleznicevary.cz/akce/parkova-zeleznice-u-hriste-ve-vojkovicich/
LOCATION:Vojkovice\, Kemp Vojkovice\, Vojkovice
END:VEVENT
BEGIN:VEVENT
DTSTART;TZID=Europe/Prague:20250614T150000
DTEND;TZID=Europe/Prague:20250614T180000
DTSTAMP:20260423T141930
CREATED:20250514T134328Z
LAST-MODIFIED:20250514T134328Z
UID:1028-1749913200-1749924000@parkovazeleznicevary.cz
SUMMARY:Parková železnice na Letní Párty obce Dalovice
DESCRIPTION:
URL:https://parkovazeleznicevary.cz/akce/parkova-zeleznice-na-letni-party-obce-dalovice/
LOCATION:Dalovice\, Hlavní 114/29\, Dalovice
END:VEVENT
BEGIN:VEVENT
DTSTART;TZID=Europe/Prague:20250601T140000
DTEND;TZID=Europe/Prague:20250601T170000
DTSTAMP:20260423T141930
CREATED:20250514T133536Z
LAST-MODIFIED:20250514T133536Z
UID:1025-1748786400-1748797200@parkovazeleznicevary.cz
SUMMARY:Parková železnice na Den dětí MDDM Ostrov
DESCRIPTION:
URL:https://parkovazeleznicevary.cz/akce/parkova-zeleznice-na-den-deti-mddm-ostrov/
LOCATION:MDDM Ostrov\, Školní 231\, Ostrov
END:VEVENT
BEGIN:VEVENT
DTSTART;TZID=Europe/Prague:20250531T140000
DTEND;TZID=Europe/Prague:20250531T180000
DTSTAMP:20260423T141930
CREATED:20250514T133219Z
LAST-MODIFIED:20250514T133219Z
UID:1022-1748700000-1748714400@parkovazeleznicevary.cz
SUMMARY:Parková železnice na Dni dětí na Supím potoce
DESCRIPTION:
URL:https://parkovazeleznicevary.cz/akce/parkova-zeleznice-na-dni-deti-na-supim-potoce/
LOCATION:Supí potok\, dvory 31\, Loket
END:VEVENT
BEGIN:VEVENT
DTSTART;TZID=Europe/Prague:20250524T140000
DTEND;TZID=Europe/Prague:20250524T140000
DTSTAMP:20260423T141930
CREATED:20250514T131721Z
LAST-MODIFIED:20250514T131922Z
UID:1016-1748095200-1748095200@parkovazeleznicevary.cz
SUMMARY:Parková železnice na festivalu Valcha
DESCRIPTION:
URL:https://parkovazeleznicevary.cz/akce/parkova-zeleznice-na-festivalu-valcha/
LOCATION:Nová Role\, Nová Role 38\, Nová Role\, Czech Republic
END:VEVENT
END:VCALENDAR