BEGIN:VCALENDAR
VERSION:2.0
PRODID:-// - ECPv6.15.20//NONSGML v1.0//EN
CALSCALE:GREGORIAN
METHOD:PUBLISH
X-ORIGINAL-URL:https://parkovazeleznicevary.cz
X-WR-CALDESC:Akce na 
REFRESH-INTERVAL;VALUE=DURATION:PT1H
X-Robots-Tag:noindex
X-PUBLISHED-TTL:PT1H
BEGIN:VTIMEZONE
TZID:Europe/Prague
BEGIN:DAYLIGHT
TZOFFSETFROM:+0100
TZOFFSETTO:+0200
TZNAME:CEST
DTSTART:20250330T010000
END:DAYLIGHT
BEGIN:STANDARD
TZOFFSETFROM:+0200
TZOFFSETTO:+0100
TZNAME:CET
DTSTART:20251026T010000
END:STANDARD
BEGIN:DAYLIGHT
TZOFFSETFROM:+0100
TZOFFSETTO:+0200
TZNAME:CEST
DTSTART:20260329T010000
END:DAYLIGHT
BEGIN:STANDARD
TZOFFSETFROM:+0200
TZOFFSETTO:+0100
TZNAME:CET
DTSTART:20261025T010000
END:STANDARD
BEGIN:DAYLIGHT
TZOFFSETFROM:+0100
TZOFFSETTO:+0200
TZNAME:CEST
DTSTART:20270328T010000
END:DAYLIGHT
BEGIN:STANDARD
TZOFFSETFROM:+0200
TZOFFSETTO:+0100
TZNAME:CET
DTSTART:20271031T010000
END:STANDARD
END:VTIMEZONE
BEGIN:VEVENT
DTSTART;TZID=Europe/Prague:20260516T100000
DTEND;TZID=Europe/Prague:20260516T170000
DTSTAMP:20260423T124121
CREATED:20260317T083345Z
LAST-MODIFIED:20260317T083345Z
UID:1429-1778925600-1778950800@parkovazeleznicevary.cz
SUMMARY:Den rodin 2026
DESCRIPTION:Bude nám velikým potešením doprovodit naší atrakcí program Dne rodin\, pořádaným obecně prospěšným sdružením Náhradním Rodinám.
URL:https://parkovazeleznicevary.cz/akce/den-rodin-2026/
LOCATION:Nová Role\, Nová Role 38\, Nová Role\, Czech Republic
END:VEVENT
BEGIN:VEVENT
DTSTART;TZID=Europe/Prague:20260523T140000
DTEND;TZID=Europe/Prague:20260523T180000
DTSTAMP:20260423T124121
CREATED:20260317T083823Z
LAST-MODIFIED:20260317T085301Z
UID:1432-1779544800-1779559200@parkovazeleznicevary.cz
SUMMARY:Den dětí v Čankově
DESCRIPTION:Kulturně aktivní přátelé z Čankova opět pořádají Den dětí a my s parkovou železnicí moc rádi zpestříme jejich program.
URL:https://parkovazeleznicevary.cz/akce/den-deti-v-cankove/
LOCATION:Hřiště Čankov\, Čankov 34\, Karlovy Vary\, 360 17
END:VEVENT
BEGIN:VEVENT
DTSTART;TZID=Europe/Prague:20260531T140000
DTEND;TZID=Europe/Prague:20260531T170000
DTSTAMP:20260423T124121
CREATED:20260317T084215Z
LAST-MODIFIED:20260317T084300Z
UID:1436-1780236000-1780246800@parkovazeleznicevary.cz
SUMMARY:Den dětí mDDM Ostrov
DESCRIPTION:Jako již tradičně\, bude naše atrakce součástí dne dětí u městského domu dětí a mládeže v Ostrově. Těšíme se na Vás!
URL:https://parkovazeleznicevary.cz/akce/den-deti-mddm-ostrov/
LOCATION:MDDM Ostrov\, Školní 231\, Ostrov
END:VEVENT
BEGIN:VEVENT
DTSTART;TZID=Europe/Prague:20260606T103000
DTEND;TZID=Europe/Prague:20260606T150000
DTSTAMP:20260423T124121
CREATED:20260317T084605Z
LAST-MODIFIED:20260317T084605Z
UID:1438-1780741800-1780758000@parkovazeleznicevary.cz
SUMMARY:Novosedelská pouť
DESCRIPTION:Těšíme se na Vás na Novosedelské pouti!
URL:https://parkovazeleznicevary.cz/akce/novosedelska-pout/
LOCATION:Městský park Nové Sedlo\, Sklářská 510\, Nové Sedlo\, Karlovarský\, 35734
END:VEVENT
END:VCALENDAR